BEGIN:VCALENDAR
VERSION:2.0
PRODID:-//Love Nature - ECPv6.15.20//NONSGML v1.0//EN
CALSCALE:GREGORIAN
METHOD:PUBLISH
X-WR-CALNAME:Love Nature
X-ORIGINAL-URL:https://jasonpedersonbook.com
X-WR-CALDESC:Events for Love Nature
REFRESH-INTERVAL;VALUE=DURATION:PT1H
X-Robots-Tag:noindex
X-PUBLISHED-TTL:PT1H
BEGIN:VTIMEZONE
TZID:UTC
BEGIN:STANDARD
TZOFFSETFROM:+0000
TZOFFSETTO:+0000
TZNAME:UTC
DTSTART:20230101T000000
END:STANDARD
END:VTIMEZONE
BEGIN:VEVENT
DTSTART;TZID=UTC:20240922T140000
DTEND;TZID=UTC:20240922T163000
DTSTAMP:20260424T151858
CREATED:20240906T222316Z
LAST-MODIFIED:20240906T222316Z
UID:1757-1727013600-1727022600@jasonpedersonbook.com
SUMMARY:CALS Book Festival - Little Rock
DESCRIPTION:Author event and book signing
URL:https://jasonpedersonbook.com/event/cals-book-festival-little-rock/
LOCATION:Terry Library\, 2015 Napa Valley Drive\, Little Rock\, AR\, 72212\, United States
ATTACH;FMTTYPE=image/png:https://jasonpedersonbook.com/wp-content/uploads/2024/09/BookFest.png
END:VEVENT
END:VCALENDAR