BEGIN:VCALENDAR
VERSION:2.0
PRODID:-//Love Nature - ECPv6.15.20//NONSGML v1.0//EN
CALSCALE:GREGORIAN
METHOD:PUBLISH
X-ORIGINAL-URL:https://jasonpedersonbook.com
X-WR-CALDESC:Events for Love Nature
REFRESH-INTERVAL;VALUE=DURATION:PT1H
X-Robots-Tag:noindex
X-PUBLISHED-TTL:PT1H
BEGIN:VTIMEZONE
TZID:UTC
BEGIN:STANDARD
TZOFFSETFROM:+0000
TZOFFSETTO:+0000
TZNAME:UTC
DTSTART:20230101T000000
END:STANDARD
END:VTIMEZONE
BEGIN:VEVENT
DTSTART;TZID=UTC:20241011T120000
DTEND;TZID=UTC:20241011T140000
DTSTAMP:20260424T135702
CREATED:20240925T131238Z
LAST-MODIFIED:20240925T131649Z
UID:1832-1728648000-1728655200@jasonpedersonbook.com
SUMMARY:Pulaski County Bar Association
DESCRIPTION:
URL:https://jasonpedersonbook.com/event/pulaski-county-bar-association/
LOCATION:Next Level Events Center\, 1400 W Markham St\, Little Rock\, AR\, 72201\, United States
END:VEVENT
END:VCALENDAR