BEGIN:VCALENDAR
VERSION:2.0
PRODID:-//Love Nature - ECPv6.15.20//NONSGML v1.0//EN
CALSCALE:GREGORIAN
METHOD:PUBLISH
X-WR-CALNAME:Love Nature
X-ORIGINAL-URL:https://jasonpedersonbook.com
X-WR-CALDESC:Events for Love Nature
REFRESH-INTERVAL;VALUE=DURATION:PT1H
X-Robots-Tag:noindex
X-PUBLISHED-TTL:PT1H
BEGIN:VTIMEZONE
TZID:UTC
BEGIN:STANDARD
TZOFFSETFROM:+0000
TZOFFSETTO:+0000
TZNAME:UTC
DTSTART:20230101T000000
END:STANDARD
END:VTIMEZONE
BEGIN:VEVENT
DTSTART;TZID=UTC:20241113T120000
DTEND;TZID=UTC:20241113T140000
DTSTAMP:20260424T123743
CREATED:20240925T131531Z
LAST-MODIFIED:20240925T131531Z
UID:1835-1731499200-1731506400@jasonpedersonbook.com
SUMMARY:Conway Kiwanis Book Signing
DESCRIPTION:
URL:https://jasonpedersonbook.com/event/conway-kiwanis-book-signing/
LOCATION:Central Baptist College\, 1501 College Ave\, Conway\, AR\, 72034\, United States
END:VEVENT
END:VCALENDAR