BEGIN:VCALENDAR
VERSION:2.0
PRODID:-//Love Nature - ECPv6.15.20//NONSGML v1.0//EN
CALSCALE:GREGORIAN
METHOD:PUBLISH
X-WR-CALNAME:Love Nature
X-ORIGINAL-URL:https://jasonpedersonbook.com
X-WR-CALDESC:Events for Love Nature
REFRESH-INTERVAL;VALUE=DURATION:PT1H
X-Robots-Tag:noindex
X-PUBLISHED-TTL:PT1H
BEGIN:VTIMEZONE
TZID:UTC
BEGIN:STANDARD
TZOFFSETFROM:+0000
TZOFFSETTO:+0000
TZNAME:UTC
DTSTART:20250101T000000
END:STANDARD
END:VTIMEZONE
BEGIN:VEVENT
DTSTART;TZID=UTC:20260504T180000
DTEND;TZID=UTC:20260504T193000
DTSTAMP:20260423T172337
CREATED:20260417T134736Z
LAST-MODIFIED:20260417T185653Z
UID:1913-1777917600-1777923000@jasonpedersonbook.com
SUMMARY:Lonoke Book Club
DESCRIPTION:
URL:https://jasonpedersonbook.com/event/lonoke-book-club/
END:VEVENT
END:VCALENDAR