BEGIN:VCALENDAR
VERSION:2.0
PRODID:-//Love Nature - ECPv6.15.20//NONSGML v1.0//EN
CALSCALE:GREGORIAN
METHOD:PUBLISH
X-WR-CALNAME:Love Nature
X-ORIGINAL-URL:https://jasonpedersonbook.com
X-WR-CALDESC:Events for Love Nature
REFRESH-INTERVAL;VALUE=DURATION:PT1H
X-Robots-Tag:noindex
X-PUBLISHED-TTL:PT1H
BEGIN:VTIMEZONE
TZID:UTC
BEGIN:STANDARD
TZOFFSETFROM:+0000
TZOFFSETTO:+0000
TZNAME:UTC
DTSTART:20230101T000000
END:STANDARD
END:VTIMEZONE
BEGIN:VEVENT
DTSTART;TZID=UTC:20260207T110000
DTEND;TZID=UTC:20260207T143000
DTSTAMP:20260423T211604
CREATED:20260116T160621Z
LAST-MODIFIED:20260116T160621Z
UID:1907-1770462000-1770474600@jasonpedersonbook.com
SUMMARY:Author Talk at Russellville Library
DESCRIPTION:
URL:https://jasonpedersonbook.com/event/author-talk-at-russellville-library-2/
LOCATION:Russellville Library\, 110 Lawrence St. East\, Russellville\, AR\, United States
END:VEVENT
BEGIN:VEVENT
DTSTART;TZID=UTC:20250612T120000
DTEND;TZID=UTC:20250612T130000
DTSTAMP:20260423T211604
CREATED:20250609T141004Z
LAST-MODIFIED:20250609T160237Z
UID:1858-1749729600-1749733200@jasonpedersonbook.com
SUMMARY:North Little Rock Rotary Club
DESCRIPTION:
URL:https://jasonpedersonbook.com/event/north-little-rock-rotary-club/
END:VEVENT
BEGIN:VEVENT
DTSTART;TZID=UTC:20241114T140000
DTEND;TZID=UTC:20241114T170000
DTSTAMP:20260423T211604
CREATED:20240925T131838Z
LAST-MODIFIED:20240925T131838Z
UID:1839-1731592800-1731603600@jasonpedersonbook.com
SUMMARY:Wine and Cheese with the Authors
DESCRIPTION:
URL:https://jasonpedersonbook.com/event/wine-and-cheese-with-the-authors/
LOCATION:Coronado Center Library\, 150 Ponderosa Ln\, Hot Springs Village\, AR\, 71909\, United States
END:VEVENT
BEGIN:VEVENT
DTSTART;TZID=UTC:20241113T120000
DTEND;TZID=UTC:20241113T140000
DTSTAMP:20260423T211604
CREATED:20240925T131531Z
LAST-MODIFIED:20240925T131531Z
UID:1835-1731499200-1731506400@jasonpedersonbook.com
SUMMARY:Conway Kiwanis Book Signing
DESCRIPTION:
URL:https://jasonpedersonbook.com/event/conway-kiwanis-book-signing/
LOCATION:Central Baptist College\, 1501 College Ave\, Conway\, AR\, 72034\, United States
END:VEVENT
BEGIN:VEVENT
DTSTART;TZID=UTC:20241011T120000
DTEND;TZID=UTC:20241011T140000
DTSTAMP:20260423T211604
CREATED:20240925T131238Z
LAST-MODIFIED:20240925T131649Z
UID:1832-1728648000-1728655200@jasonpedersonbook.com
SUMMARY:Pulaski County Bar Association
DESCRIPTION:
URL:https://jasonpedersonbook.com/event/pulaski-county-bar-association/
LOCATION:Next Level Events Center\, 1400 W Markham St\, Little Rock\, AR\, 72201\, United States
END:VEVENT
BEGIN:VEVENT
DTSTART;TZID=UTC:20240922T140000
DTEND;TZID=UTC:20240922T163000
DTSTAMP:20260423T211604
CREATED:20240906T222316Z
LAST-MODIFIED:20240906T222316Z
UID:1757-1727013600-1727022600@jasonpedersonbook.com
SUMMARY:CALS Book Festival - Little Rock
DESCRIPTION:Author event and book signing
URL:https://jasonpedersonbook.com/event/cals-book-festival-little-rock/
LOCATION:Terry Library\, 2015 Napa Valley Drive\, Little Rock\, AR\, 72212\, United States
ATTACH;FMTTYPE=image/png:https://jasonpedersonbook.com/wp-content/uploads/2024/09/BookFest.png
END:VEVENT
BEGIN:VEVENT
DTSTART;TZID=UTC:20240920T050000
DTEND;TZID=UTC:20240920T190000
DTSTAMP:20260423T211604
CREATED:20240906T221930Z
LAST-MODIFIED:20240906T222011Z
UID:1752-1726808400-1726858800@jasonpedersonbook.com
SUMMARY:Blytheville Book Company
DESCRIPTION:Author event and book signing
URL:https://jasonpedersonbook.com/event/blytheville-book-company/
LOCATION:Blytheville Book Company\, 429 West Main Street\, Blytheville\, AR\, 72315\, United States
ATTACH;FMTTYPE=image/png:https://jasonpedersonbook.com/wp-content/uploads/2024/09/Blytheville.png
END:VEVENT
BEGIN:VEVENT
DTSTART;TZID=UTC:20240917T060000
DTEND;TZID=UTC:20240917T200000
DTSTAMP:20260423T211604
CREATED:20240906T221313Z
LAST-MODIFIED:20240906T221501Z
UID:1743-1726552800-1726603200@jasonpedersonbook.com
SUMMARY:Arkansas Tech University - Ross Pendergraft Library
DESCRIPTION:Author Series Event
URL:https://jasonpedersonbook.com/event/arkansas-tech-university-ross-pendergraft-library/
LOCATION:Ross Pendergraft Library\, 305 West Q Street\, Russellville\, AR\, 72801\, United States
ATTACH;FMTTYPE=image/png:https://jasonpedersonbook.com/wp-content/uploads/2024/09/0.png
END:VEVENT
BEGIN:VEVENT
DTSTART;TZID=UTC:20240914T123000
DTEND;TZID=UTC:20240914T150000
DTSTAMP:20260423T211604
CREATED:20240906T220932Z
LAST-MODIFIED:20240906T221646Z
UID:1739-1726317000-1726326000@jasonpedersonbook.com
SUMMARY:Barnes and Noble - Little Rock
DESCRIPTION:Author event and book signing
URL:https://jasonpedersonbook.com/event/barnes-and-noble-little-rock/
LOCATION:Barnes and Noble\, 11500 Financial Centre Parkway\, Little Rock\, AR\, United States
ATTACH;FMTTYPE=image/png:https://jasonpedersonbook.com/wp-content/uploads/2024/09/BNK924.png
END:VEVENT
BEGIN:VEVENT
DTSTART;TZID=UTC:20240831T120000
DTEND;TZID=UTC:20240831T160000
DTSTAMP:20260423T211604
CREATED:20240725T133653Z
LAST-MODIFIED:20240725T133653Z
UID:1677-1725105600-1725120000@jasonpedersonbook.com
SUMMARY:The Bookish Summer Bash Meet and Greet
DESCRIPTION:
URL:https://jasonpedersonbook.com/event/the-bookish-summer-bash-meet-and-greet/
LOCATION:Bookish Emporium\, 514 W Main St\, Heber Springs\, AR\, 72543\, United States
END:VEVENT
BEGIN:VEVENT
DTSTART;TZID=UTC:20240817T160000
DTEND;TZID=UTC:20240817T180000
DTSTAMP:20260423T211604
CREATED:20240725T133413Z
LAST-MODIFIED:20240725T133413Z
UID:1674-1723910400-1723917600@jasonpedersonbook.com
SUMMARY:Monticello Branch Library
DESCRIPTION:
URL:https://jasonpedersonbook.com/event/monticello-branch-library/
LOCATION:Monticello Branch Library\, 114 W Jefferson Ave\, Monticello\, AR\, 71655\, United States
END:VEVENT
BEGIN:VEVENT
DTSTART;TZID=UTC:20240722T070000
DTEND;TZID=UTC:20240722T080000
DTSTAMP:20260423T211604
CREATED:20240721T152706Z
LAST-MODIFIED:20240721T152853Z
UID:1665-1721631600-1721635200@jasonpedersonbook.com
SUMMARY:Appearance on Morning Mayhem on 103.7 The Buzz
DESCRIPTION:Jason Pederson will appear on Morning Mayhem on 103.7 The Buzz from 7 A.M. to 8 A.M.
URL:https://jasonpedersonbook.com/event/appearance-on-morning-mayhem-on-103-7-the-buzz/
END:VEVENT
END:VCALENDAR