BEGIN:VCALENDAR
VERSION:2.0
PRODID:-//Love Nature - ECPv6.15.20//NONSGML v1.0//EN
CALSCALE:GREGORIAN
METHOD:PUBLISH
X-WR-CALNAME:Love Nature
X-ORIGINAL-URL:https://jasonpedersonbook.com
X-WR-CALDESC:Events for Love Nature
REFRESH-INTERVAL;VALUE=DURATION:PT1H
X-Robots-Tag:noindex
X-PUBLISHED-TTL:PT1H
BEGIN:VTIMEZONE
TZID:UTC
BEGIN:STANDARD
TZOFFSETFROM:+0000
TZOFFSETTO:+0000
TZNAME:UTC
DTSTART:20230101T000000
END:STANDARD
END:VTIMEZONE
BEGIN:VEVENT
DTSTART;TZID=UTC:20240817T160000
DTEND;TZID=UTC:20240817T180000
DTSTAMP:20260423T233354
CREATED:20240725T133413Z
LAST-MODIFIED:20240725T133413Z
UID:1674-1723910400-1723917600@jasonpedersonbook.com
SUMMARY:Monticello Branch Library
DESCRIPTION:
URL:https://jasonpedersonbook.com/event/monticello-branch-library/
LOCATION:Monticello Branch Library\, 114 W Jefferson Ave\, Monticello\, AR\, 71655\, United States
END:VEVENT
BEGIN:VEVENT
DTSTART;TZID=UTC:20240722T070000
DTEND;TZID=UTC:20240722T080000
DTSTAMP:20260423T233354
CREATED:20240721T152706Z
LAST-MODIFIED:20240721T152853Z
UID:1665-1721631600-1721635200@jasonpedersonbook.com
SUMMARY:Appearance on Morning Mayhem on 103.7 The Buzz
DESCRIPTION:Jason Pederson will appear on Morning Mayhem on 103.7 The Buzz from 7 A.M. to 8 A.M.
URL:https://jasonpedersonbook.com/event/appearance-on-morning-mayhem-on-103-7-the-buzz/
LOCATION:AR
END:VEVENT
END:VCALENDAR